BEGIN:VCALENDAR
VERSION:2.0
PRODID:-//Club Alpin Horizon Vertical - ECPv5.4.0.2//NONSGML v1.0//EN
CALSCALE:GREGORIAN
METHOD:PUBLISH
X-WR-CALNAME:Club Alpin Horizon Vertical
X-ORIGINAL-URL:http://clubalpinhorizonvertical.fr
X-WR-CALDESC:évènements pour Club Alpin Horizon Vertical
BEGIN:VTIMEZONE
TZID:Europe/Paris
BEGIN:DAYLIGHT
TZOFFSETFROM:+0100
TZOFFSETTO:+0200
TZNAME:CEST
DTSTART:20220327T010000
END:DAYLIGHT
BEGIN:STANDARD
TZOFFSETFROM:+0200
TZOFFSETTO:+0100
TZNAME:CET
DTSTART:20221030T010000
END:STANDARD
END:VTIMEZONE
BEGIN:VEVENT
DTSTART;TZID=Europe/Paris:20221014T090000
DTEND;TZID=Europe/Paris:20221014T130000
DTSTAMP:20260426T054928
CREATED:20221011T130329Z
LAST-MODIFIED:20221011T130329Z
UID:4650-1665738000-1665752400@clubalpinhorizonvertical.fr
SUMMARY:Joyeux aventuriers du vendredi : Via Ferrata des Juscles
DESCRIPTION:
URL:http://clubalpinhorizonvertical.fr/programme-des-evenements/joyeux-aventuriers-du-vendredi-via-ferrata-des-juscles/
LOCATION:Le Pertuis\, Le Pertuis\, France
CATEGORIES:Sorties
ATTACH;FMTTYPE=image/jpeg:http://clubalpinhorizonvertical.fr/wp-content/uploads/2022/10/juscles.jpg
END:VEVENT
END:VCALENDAR