BEGIN:VCALENDAR
VERSION:2.0
PRODID:-//Club Alpin Horizon Vertical - ECPv5.4.0.2//NONSGML v1.0//EN
CALSCALE:GREGORIAN
METHOD:PUBLISH
X-WR-CALNAME:Club Alpin Horizon Vertical
X-ORIGINAL-URL:http://clubalpinhorizonvertical.fr
X-WR-CALDESC:évènements pour Club Alpin Horizon Vertical
BEGIN:VTIMEZONE
TZID:Europe/Paris
BEGIN:DAYLIGHT
TZOFFSETFROM:+0100
TZOFFSETTO:+0200
TZNAME:CEST
DTSTART:20220327T010000
END:DAYLIGHT
BEGIN:STANDARD
TZOFFSETFROM:+0200
TZOFFSETTO:+0100
TZNAME:CET
DTSTART:20221030T010000
END:STANDARD
END:VTIMEZONE
BEGIN:VEVENT
DTSTART;TZID=Europe/Paris:20221030T080000
DTEND;TZID=Europe/Paris:20221030T170000
DTSTAMP:20260426T054928
CREATED:20221005T112929Z
LAST-MODIFIED:20221011T121256Z
UID:4591-1667116800-1667149200@clubalpinhorizonvertical.fr
SUMMARY:Randonnée pédestre "Des feuilles mortes"\, à Chanteuges
DESCRIPTION:Pour faire suite à notre réunion du mercredi 14 septembre\, le groupe de randonnées est officiellement réactivé pour cette rentrée 2022\, grâce à une vingtaine d’adhérents au CAF motivés pour marcher ensemble !\nAu programme : des dates de rando planifiées jusqu’au mois de décembre et un groupe Whatsapp pour prévoir des randos au pied levé et s’organiser pour le covoiturage\, pour l’hébergement le cas échéant. \nCe dimanche 30 octobre\, nous vous proposons : \nRDV 9h à Chanteuges pour la rando des feuilles mortes\, 26 km avec grillades proposées le midi dans le cadre de l’évènement \n  \nContact\, infos et inscription : Bruno et Jeanne (06 68 28 25 47 ou jeannehpo@gmail.com)
URL:http://clubalpinhorizonvertical.fr/programme-des-evenements/4591/
LOCATION:Chanteuges\, Chanteuges\, 43300
CATEGORIES:Sorties
ATTACH;FMTTYPE=image/jpeg:http://clubalpinhorizonvertical.fr/wp-content/uploads/2021/02/20210209_121635-1.jpg
END:VEVENT
END:VCALENDAR