BEGIN:VCALENDAR
VERSION:2.0
PRODID:-//Club Alpin Horizon Vertical - ECPv5.4.0.2//NONSGML v1.0//EN
CALSCALE:GREGORIAN
METHOD:PUBLISH
X-WR-CALNAME:Club Alpin Horizon Vertical
X-ORIGINAL-URL:http://clubalpinhorizonvertical.fr
X-WR-CALDESC:évènements pour Club Alpin Horizon Vertical
BEGIN:VTIMEZONE
TZID:Europe/Paris
BEGIN:DAYLIGHT
TZOFFSETFROM:+0100
TZOFFSETTO:+0200
TZNAME:CEST
DTSTART:20230326T010000
END:DAYLIGHT
BEGIN:STANDARD
TZOFFSETFROM:+0200
TZOFFSETTO:+0100
TZNAME:CET
DTSTART:20231029T010000
END:STANDARD
END:VTIMEZONE
BEGIN:VEVENT
DTSTART;VALUE=DATE:20230114
DTEND;VALUE=DATE:20230116
DTSTAMP:20260426T010032
CREATED:20230105T121512Z
LAST-MODIFIED:20230105T121523Z
UID:4924-1673654400-1673827199@clubalpinhorizonvertical.fr
SUMMARY:SORTIE SKI DE RANDO EN LAUZIERE
DESCRIPTION:Le WE du 14 et 15 janvier\, le club organise une sortie ski de randonnée dans le massif de la Lauzière. \n\nNiveau requis : tous niveaux\ninscription obligatoire par Email à skiderando@clubalpinhorizonvertical.fr (attention aux dates limites d’inscription pour les sorties sur plusieurs jours avec hébergement)\npossibilité de prêt de matériel sur réservation au moment de l’inscription à la sortie :– pack ski de rando/peaux/couteaux en précisant votre taille de chaussure de skis alpin (en mm) et votre taille/poids\n– packs pelle/sonde/DVA. \nPour la réservation des skis\, prévoir de récupérer le matériel chez Philippe (06.85.32.10.31) le mercredi précédent la sortie pour faire les réglages. L’organisateur récupère le matériel en fin de sortie. Prêt de matériel uniquement pour les sorties club.
URL:http://clubalpinhorizonvertical.fr/programme-des-evenements/sortie-ski-de-rando-en-lauziere/
CATEGORIES:Sorties
ATTACH;FMTTYPE=image/jpeg:http://clubalpinhorizonvertical.fr/wp-content/uploads/2022/03/5-Aig-Arves.jpeg
END:VEVENT
BEGIN:VEVENT
DTSTART;TZID=Europe/Paris:20230115T100000
DTEND;TZID=Europe/Paris:20230115T130000
DTSTAMP:20260426T010032
CREATED:20230103T121622Z
LAST-MODIFIED:20230103T121622Z
UID:4907-1673776800-1673787600@clubalpinhorizonvertical.fr
SUMMARY:DÉCOUVERTE SKI DE FOND
DESCRIPTION:Nouveauté de la saison 2022/2023!\nCette année\, le club vous propose de découvrir la pratique du ski de fond et notamment de vous initier au skating ! Les cours sont assurés par des bénévoles qualifiés qui vous feront découvrir les joies de cette discipline ! \nLes dates prévues\, sous réserve d’enneigement suffisant\, sont les suivantes : \n\n15 janvier 2023\n29 janvier 2023\n26 février 2023\n5 mars 2023\n\nPour chacune des dates ci dessus\, le rendez vous est fixé à 10h sur le parking de la maison forestière aux Estables. \nInfos et inscription : contact@clubalpinhorizonvertical.fr
URL:http://clubalpinhorizonvertical.fr/programme-des-evenements/decouverte-ski-de-fond/
LOCATION:Les Estables\, Haute-Loire\, 43150\, France
CATEGORIES:Sorties
ATTACH;FMTTYPE=image/jpeg:http://clubalpinhorizonvertical.fr/wp-content/uploads/2022/05/IMG-20220505-WA0003.jpg
END:VEVENT
END:VCALENDAR