BEGIN:VCALENDAR
VERSION:2.0
PRODID:-//Club Alpin Horizon Vertical - ECPv5.4.0.2//NONSGML v1.0//EN
CALSCALE:GREGORIAN
METHOD:PUBLISH
X-WR-CALNAME:Club Alpin Horizon Vertical
X-ORIGINAL-URL:http://clubalpinhorizonvertical.fr
X-WR-CALDESC:évènements pour Club Alpin Horizon Vertical
BEGIN:VTIMEZONE
TZID:Europe/Paris
BEGIN:DAYLIGHT
TZOFFSETFROM:+0100
TZOFFSETTO:+0200
TZNAME:CEST
DTSTART:20230326T010000
END:DAYLIGHT
BEGIN:STANDARD
TZOFFSETFROM:+0200
TZOFFSETTO:+0100
TZNAME:CET
DTSTART:20231029T010000
END:STANDARD
END:VTIMEZONE
BEGIN:VEVENT
DTSTART;TZID=Europe/Paris:20230311T083000
DTEND;TZID=Europe/Paris:20230311T173000
DTSTAMP:20260422T232052
CREATED:20230126T063429Z
LAST-MODIFIED:20230126T102607Z
UID:5127-1678523400-1678555800@clubalpinhorizonvertical.fr
SUMMARY:Coupe 42/43
DESCRIPTION:  \n  \n  \n  \n  \n  \n\n  \n  \n  \n\nFormat de la compétition: \n\n– Vitesse : 2 voies avec 2 essais par voies\n– Difficulté : 5 voies\n– blocs : circuit de 8 blocs\nGrimpe en moulinette pour les U10 et U12\, en tête pour les U14\n\n\n– Accueil au Gymnase de Massot\n(difficulté et vitesse sur le mur de Massot\, blocs dans  la salle de la Libération)\n\n\n– Repas sur réservation avant 10h
URL:http://clubalpinhorizonvertical.fr/programme-des-evenements/coupe-42-43/
LOCATION:Massot
CATEGORIES:Compétitions
ATTACH;FMTTYPE=image/jpeg:http://clubalpinhorizonvertical.fr/wp-content/uploads/2023/01/Affiche-coupe-4243-11-mars-2023.jpg
END:VEVENT
END:VCALENDAR