BEGIN:VCALENDAR
VERSION:2.0
PRODID:-//Club Alpin Horizon Vertical - ECPv5.4.0.2//NONSGML v1.0//EN
CALSCALE:GREGORIAN
METHOD:PUBLISH
X-WR-CALNAME:Club Alpin Horizon Vertical
X-ORIGINAL-URL:http://clubalpinhorizonvertical.fr
X-WR-CALDESC:évènements pour Club Alpin Horizon Vertical
BEGIN:VTIMEZONE
TZID:Europe/Paris
BEGIN:DAYLIGHT
TZOFFSETFROM:+0100
TZOFFSETTO:+0200
TZNAME:CEST
DTSTART:20230326T010000
END:DAYLIGHT
BEGIN:STANDARD
TZOFFSETFROM:+0200
TZOFFSETTO:+0100
TZNAME:CET
DTSTART:20231029T010000
END:STANDARD
END:VTIMEZONE
BEGIN:VEVENT
DTSTART;TZID=Europe/Paris:20230129T100000
DTEND;TZID=Europe/Paris:20230129T130000
DTSTAMP:20260423T043257
CREATED:20230103T121826Z
LAST-MODIFIED:20230103T121826Z
UID:4910-1674986400-1674997200@clubalpinhorizonvertical.fr
SUMMARY:DECOUVERTE SKI DE FOND
DESCRIPTION:Nouveauté de la saison 2022/2023!\nCette année\, le club vous propose de découvrir la pratique du ski de fond et notamment de vous initier au skating ! Les cours sont assurés par des bénévoles qualifiés qui vous feront découvrir les joies de cette discipline ! \nLes dates prévues\, sous réserve d’enneigement suffisant\, sont les suivantes : \n\n15 janvier 2023\n29 janvier 2023\n26 février 2023\n5 mars 2023\n\nPour chacune des dates ci dessus\, le rendez vous est fixé à 10h sur le parking de la maison forestière aux Estables. \nInfos et inscription : contact@clubalpinhorizonvertical.fr
URL:http://clubalpinhorizonvertical.fr/programme-des-evenements/decouverte-ski-de-fond-2/
CATEGORIES:Sorties
ATTACH;FMTTYPE=image/jpeg:http://clubalpinhorizonvertical.fr/wp-content/uploads/2022/05/IMG-20220505-WA0003.jpg
END:VEVENT
END:VCALENDAR