BEGIN:VCALENDAR
VERSION:2.0
PRODID:-//Club Alpin Horizon Vertical - ECPv5.4.0.2//NONSGML v1.0//EN
CALSCALE:GREGORIAN
METHOD:PUBLISH
X-WR-CALNAME:Club Alpin Horizon Vertical
X-ORIGINAL-URL:http://clubalpinhorizonvertical.fr
X-WR-CALDESC:évènements pour Club Alpin Horizon Vertical
BEGIN:VTIMEZONE
TZID:Europe/Paris
BEGIN:DAYLIGHT
TZOFFSETFROM:+0100
TZOFFSETTO:+0200
TZNAME:CEST
DTSTART:20230326T010000
END:DAYLIGHT
BEGIN:STANDARD
TZOFFSETFROM:+0200
TZOFFSETTO:+0100
TZNAME:CET
DTSTART:20231029T010000
END:STANDARD
END:VTIMEZONE
BEGIN:VEVENT
DTSTART;TZID=Europe/Paris:20230107T090000
DTEND;TZID=Europe/Paris:20230107T120000
DTSTAMP:20260426T024334
CREATED:20221124T120908Z
LAST-MODIFIED:20230105T115455Z
UID:4809-1673082000-1673092800@clubalpinhorizonvertical.fr
SUMMARY:FORMATION DVA (obligatoire pour les sorties Ski de rando)
DESCRIPTION:Le samedi 7 janvier 2023 à 09h00\, à Brives Charensac\, Rendez sur le parking du stade de foot (à côté du camping Audinet). \nRendez vous pour la traditionnelle formation à l’utilisation du matériel de recherche de victimes d’avalanche. (Formation obligatoire pour participer aux sorties ski de randonnée). \n 
URL:http://clubalpinhorizonvertical.fr/programme-des-evenements/formation-dva-obligatoire-pour-les-sortie-ski-de-rando/
LOCATION:croix de boutières\, Croix de boutières
CATEGORIES:Formations
ATTACH;FMTTYPE=image/jpeg:http://clubalpinhorizonvertical.fr/wp-content/uploads/2021/12/IMG_20200229_144832b.jpg
END:VEVENT
END:VCALENDAR