BEGIN:VCALENDAR
VERSION:2.0
PRODID:-//Club Alpin Horizon Vertical - ECPv5.4.0.2//NONSGML v1.0//EN
CALSCALE:GREGORIAN
METHOD:PUBLISH
X-WR-CALNAME:Club Alpin Horizon Vertical
X-ORIGINAL-URL:http://clubalpinhorizonvertical.fr
X-WR-CALDESC:évènements pour Club Alpin Horizon Vertical
BEGIN:VTIMEZONE
TZID:Europe/Paris
BEGIN:DAYLIGHT
TZOFFSETFROM:+0100
TZOFFSETTO:+0200
TZNAME:CEST
DTSTART:20230326T010000
END:DAYLIGHT
BEGIN:STANDARD
TZOFFSETFROM:+0200
TZOFFSETTO:+0100
TZNAME:CET
DTSTART:20231029T010000
END:STANDARD
END:VTIMEZONE
BEGIN:VEVENT
DTSTART;VALUE=DATE:20230624
DTEND;VALUE=DATE:20230626
DTSTAMP:20260423T043257
CREATED:20230202T213244Z
LAST-MODIFIED:20230202T213528Z
UID:5188-1687564800-1687737599@clubalpinhorizonvertical.fr
SUMMARY:Initiation Alpinisme
DESCRIPTION:Deux jours dans le massif du mont blanc pour acquérir les  techniques de corde en milieu montagne\, la progression sur neige\, glacier et/ou rocher. \nle but et de valider des compétences initié en alpinisme et être autonome dans une sorte encadrée \nDépart vendredi soir 17h \nSamedi : atelier pédagogique \nDimanche: course d’application \nLieux: bassin du trour \nCout: hébergement (refuge) + transport \nEncadrant : Bastien \nNiveau débutant: 5a\, 1000m dénivelé \nplaces disponible:  1/4 \ninformations et inscription : alpi@clubalpinhorizonvertical.fr
URL:http://clubalpinhorizonvertical.fr/programme-des-evenements/initiation-alpinisme-3/
LOCATION:Chamonix
CATEGORIES:FORMATION,Initiation
ATTACH;FMTTYPE=image/jpeg:http://clubalpinhorizonvertical.fr/wp-content/uploads/2022/07/20220626_090956-scaled.jpg
END:VEVENT
END:VCALENDAR