BEGIN:VCALENDAR
VERSION:2.0
PRODID:-//Club Alpin Horizon Vertical - ECPv5.4.0.2//NONSGML v1.0//EN
CALSCALE:GREGORIAN
METHOD:PUBLISH
X-WR-CALNAME:Club Alpin Horizon Vertical
X-ORIGINAL-URL:http://clubalpinhorizonvertical.fr
X-WR-CALDESC:évènements pour Club Alpin Horizon Vertical
BEGIN:VTIMEZONE
TZID:Europe/Paris
BEGIN:DAYLIGHT
TZOFFSETFROM:+0100
TZOFFSETTO:+0200
TZNAME:CEST
DTSTART:20220327T010000
END:DAYLIGHT
BEGIN:STANDARD
TZOFFSETFROM:+0200
TZOFFSETTO:+0100
TZNAME:CET
DTSTART:20221030T010000
END:STANDARD
END:VTIMEZONE
BEGIN:VEVENT
DTSTART;TZID=Europe/Paris:20221204T080000
DTEND;TZID=Europe/Paris:20221204T170000
DTSTAMP:20260426T023419
CREATED:20221012T111558Z
LAST-MODIFIED:20221012T111558Z
UID:4666-1670140800-1670173200@clubalpinhorizonvertical.fr
SUMMARY:INITIATION ALPINISME
DESCRIPTION:Initiation à l’alpinisme\, \nApprenez les bases de ce sport\, encordement\, évolution sur arête rocheuse …. \nCet évènement se fera en partenariat avec d’autres clubs auvergnats. (Inscription avant le 20 octobre). \nOuvert aux jeunes et moins jeunes. \nContact et inscription : Bastien Gérenton : alpi@clubalpinhorizonvertical.fr
URL:http://clubalpinhorizonvertical.fr/programme-des-evenements/initiation-alpinisme/
LOCATION:Le lioran\, Le Lioran\, 15300
CATEGORIES:Sorties
ATTACH;FMTTYPE=image/jpeg:http://clubalpinhorizonvertical.fr/wp-content/uploads/2022/07/20220626_081729-scaled.jpg
END:VEVENT
END:VCALENDAR