BEGIN:VCALENDAR
VERSION:2.0
PRODID:-//Club Alpin Horizon Vertical - ECPv5.4.0.2//NONSGML v1.0//EN
CALSCALE:GREGORIAN
METHOD:PUBLISH
X-WR-CALNAME:Club Alpin Horizon Vertical
X-ORIGINAL-URL:http://clubalpinhorizonvertical.fr
X-WR-CALDESC:évènements pour Club Alpin Horizon Vertical
BEGIN:VTIMEZONE
TZID:Europe/Paris
BEGIN:DAYLIGHT
TZOFFSETFROM:+0100
TZOFFSETTO:+0200
TZNAME:CEST
DTSTART:20230326T010000
END:DAYLIGHT
BEGIN:STANDARD
TZOFFSETFROM:+0200
TZOFFSETTO:+0100
TZNAME:CET
DTSTART:20231029T010000
END:STANDARD
END:VTIMEZONE
BEGIN:VEVENT
DTSTART;TZID=Europe/Paris:20230708T000000
DTEND;TZID=Europe/Paris:20230709T000000
DTSTAMP:20260423T095115
CREATED:20230112T121022Z
LAST-MODIFIED:20230112T222928Z
UID:4989-1688774400-1688860800@clubalpinhorizonvertical.fr
SUMMARY:PERFECTIONNEMENT ALPINISME
DESCRIPTION:Week end de perfectionnement en alpinisme en terrain glaciaire\, neige et glace Pour aller vers l’autonomie dans la pratique. \nContact et inscription : Bastien Gérenton : alpi@clubalpinhorizonvertical.fr \n 
URL:http://clubalpinhorizonvertical.fr/programme-des-evenements/perfectionnement-alpinisme/
CATEGORIES:FORMATION
ATTACH;FMTTYPE=image/jpeg:http://clubalpinhorizonvertical.fr/wp-content/uploads/2022/07/20220626_090956-scaled.jpg
END:VEVENT
END:VCALENDAR