BEGIN:VCALENDAR
VERSION:2.0
PRODID:-//Club Alpin Horizon Vertical - ECPv5.4.0.2//NONSGML v1.0//EN
CALSCALE:GREGORIAN
METHOD:PUBLISH
X-WR-CALNAME:Club Alpin Horizon Vertical
X-ORIGINAL-URL:http://clubalpinhorizonvertical.fr
X-WR-CALDESC:évènements pour Club Alpin Horizon Vertical
BEGIN:VTIMEZONE
TZID:Europe/Paris
BEGIN:DAYLIGHT
TZOFFSETFROM:+0100
TZOFFSETTO:+0200
TZNAME:CEST
DTSTART:20230326T010000
END:DAYLIGHT
BEGIN:STANDARD
TZOFFSETFROM:+0200
TZOFFSETTO:+0100
TZNAME:CET
DTSTART:20231029T010000
END:STANDARD
END:VTIMEZONE
BEGIN:VEVENT
DTSTART;VALUE=DATE:20230908
DTEND;VALUE=DATE:20230911
DTSTAMP:20260423T043257
CREATED:20230202T223046Z
LAST-MODIFIED:20230202T223207Z
UID:5201-1694131200-1694390399@clubalpinhorizonvertical.fr
SUMMARY:Perfectionnement Terrain d'aventure
DESCRIPTION:Trois jours pour compléter ces compétences en escalade trad et aller vers une pratique autonome. \nau programme: escalade sur coinceurs dans des voies d’une ou plusieurs longueurs\, préparation de la voie et du matériel… \nEncadrement: Florent et Bastien \nlieux: sainte victoire (13) \nCout: 25 € ( hors hébergement et transport) \nHébergement à définir \nplace disponible: 4/8 \ninfos et inscription: alpi@clubalpinhorizonvertical.fr   
URL:http://clubalpinhorizonvertical.fr/programme-des-evenements/perfectionnement-terrain-daventure-2/
LOCATION:sainte victoire\, France
CATEGORIES:Formations
ATTACH;FMTTYPE=image/jpeg:http://clubalpinhorizonvertical.fr/wp-content/uploads/2022/07/20220403_145538-scaled-e1675376951220.jpg
END:VEVENT
END:VCALENDAR