BEGIN:VCALENDAR
VERSION:2.0
PRODID:-//Club Alpin Horizon Vertical - ECPv5.4.0.2//NONSGML v1.0//EN
CALSCALE:GREGORIAN
METHOD:PUBLISH
X-WR-CALNAME:Club Alpin Horizon Vertical
X-ORIGINAL-URL:http://clubalpinhorizonvertical.fr
X-WR-CALDESC:évènements pour Club Alpin Horizon Vertical
BEGIN:VTIMEZONE
TZID:Europe/Paris
BEGIN:DAYLIGHT
TZOFFSETFROM:+0100
TZOFFSETTO:+0200
TZNAME:CEST
DTSTART:20230326T010000
END:DAYLIGHT
BEGIN:STANDARD
TZOFFSETFROM:+0200
TZOFFSETTO:+0100
TZNAME:CET
DTSTART:20231029T010000
END:STANDARD
END:VTIMEZONE
BEGIN:VEVENT
DTSTART;TZID=Europe/Paris:20230911T180000
DTEND;TZID=Europe/Paris:20230911T200000
DTSTAMP:20260423T061915
CREATED:20230901T070025Z
LAST-MODIFIED:20230901T070134Z
UID:6041-1694455200-1694462400@clubalpinhorizonvertical.fr
SUMMARY:PERMANENCE D'INSCRIPTION
DESCRIPTION:Les inscriptions aux cours se feront UNIQUEMENT lors des permanences que nous organisons au local des associations\, Rue Francheterre au Puy ou lors du forum des associations\, le samedi 2 septembre 2023. \nPermanence d’inscription :\n5\, rue Francheterre\n43000 Le Puy en Velay \nDate des permanences : \n\nlundi 4 septembre 2023 de 18h à 20h\, 5 rue Francheterre\nlundi 11 septembre 2023 de 18h à 20h\, 5 rue Francheterre\nCarrefour des sports\, de 10h à 14h au Jardin Henri Vinay  pour licence et cours adultes.
URL:http://clubalpinhorizonvertical.fr/programme-des-evenements/permanence-dinscription-2/
CATEGORIES:Réunions
ATTACH;FMTTYPE=image/png:http://clubalpinhorizonvertical.fr/wp-content/uploads/2017/04/Logo_final_RVB1.png
END:VEVENT
END:VCALENDAR