BEGIN:VCALENDAR
VERSION:2.0
PRODID:-//Club Alpin Horizon Vertical - ECPv5.4.0.2//NONSGML v1.0//EN
CALSCALE:GREGORIAN
METHOD:PUBLISH
X-WR-CALNAME:Club Alpin Horizon Vertical
X-ORIGINAL-URL:http://clubalpinhorizonvertical.fr
X-WR-CALDESC:évènements pour Club Alpin Horizon Vertical
BEGIN:VTIMEZONE
TZID:Europe/Paris
BEGIN:DAYLIGHT
TZOFFSETFROM:+0100
TZOFFSETTO:+0200
TZNAME:CEST
DTSTART:20230326T010000
END:DAYLIGHT
BEGIN:STANDARD
TZOFFSETFROM:+0200
TZOFFSETTO:+0100
TZNAME:CET
DTSTART:20231029T010000
END:STANDARD
END:VTIMEZONE
BEGIN:VEVENT
DTSTART;TZID=Europe/Paris:20230626T173000
DTEND;TZID=Europe/Paris:20230626T203000
DTSTAMP:20260423T080027
CREATED:20230612T095831Z
LAST-MODIFIED:20230612T100003Z
UID:5641-1687800600-1687811400@clubalpinhorizonvertical.fr
SUMMARY:PORTES OUVERTES
DESCRIPTION:Le Club Alpin Horizon Vertical est heureux de vous inviter à ses Portes Ouvertes le lundi 26 juin prochain ! C’est l’occasion idéale pour les amateurs de verticalité et de sensations fortes de découvrir l’escalade dans une ambiance conviviale\, encadrée par nos professionnels et nos bénévoles expérimentés. \nEnfant ou adultes\, que vous soyez débutant ou curieux de tester vos limites\, durant nos portes ouvertes\, vous aurez la possibilité de grimper sur le mur d’escalade de Massot et de découvrir les sensations de cette discipline captivante. \nBien entendu \, il n’est pas nécessaire d’avoir déjà enfilé un baudrier auparavant\, nos moniteurs qualifiés seront présents pour vous guider et répondre à toutes vos questions. \nMais ce n’est pas tout ! Pendant nos Portes Ouvertes\, vous aurez également la possibilité de vous inscrire aux cours adultes ou enfants de la saison prochaine. Que vous souhaitiez débuter en escalade ou vous perfectionner\, notre club propose une variété de cours adaptés à tous les niveaux et tous les âges. Au sein de notre club\, vous bénéficierez d’un encadrement de qualité pour progresser et vous épanouir dans cette discipline passionnante. \nLe Club Alpin Horizon Vertical n’est pas uniquement un club d’escalade! Alpinisme\, ski de randonnée\, randonnée alpine…. En nous rejoignant\, vous pourrez en profiter pour découvrir ou vous perfectionner dans pleins d’autres disciplines de montagne !! \nNe manquez pas cette occasion unique de découvrir notre club dynamique et de vous inscrire à nos activités pour la saison prochaine. Rendez-vous le 26 juin de 17h30 à 20h30 au pied du mur d’escalade au stade Massot! \nPour plus d’informations\, n’hésitez pas à nous contacter contact@clubalpinhorizonvertical.fr
URL:http://clubalpinhorizonvertical.fr/programme-des-evenements/portes-ouvertes/
LOCATION:Massot
CATEGORIES:Animations
ATTACH;FMTTYPE=image/jpeg:http://clubalpinhorizonvertical.fr/wp-content/uploads/2023/06/Portes-ouvertes.jpg
END:VEVENT
END:VCALENDAR