BEGIN:VCALENDAR
VERSION:2.0
PRODID:-//Club Alpin Horizon Vertical - ECPv5.4.0.2//NONSGML v1.0//EN
CALSCALE:GREGORIAN
METHOD:PUBLISH
X-WR-CALNAME:Club Alpin Horizon Vertical
X-ORIGINAL-URL:http://clubalpinhorizonvertical.fr
X-WR-CALDESC:évènements pour Club Alpin Horizon Vertical
BEGIN:VTIMEZONE
TZID:Europe/Paris
BEGIN:DAYLIGHT
TZOFFSETFROM:+0100
TZOFFSETTO:+0200
TZNAME:CEST
DTSTART:20220327T010000
END:DAYLIGHT
BEGIN:STANDARD
TZOFFSETFROM:+0200
TZOFFSETTO:+0100
TZNAME:CET
DTSTART:20221030T010000
END:STANDARD
END:VTIMEZONE
BEGIN:VEVENT
DTSTART;TZID=Europe/Paris:20221105T080000
DTEND;TZID=Europe/Paris:20221105T170000
DTSTAMP:20260426T054842
CREATED:20221017T105228Z
LAST-MODIFIED:20221017T112022Z
UID:4706-1667635200-1667667600@clubalpinhorizonvertical.fr
SUMMARY:RALLYE INTERCLUB
DESCRIPTION:LE 5 NOVEMBRE 2022\, le club organise un rallye interclub ! \nUne compétition conviviale qui se fait dans la bonne humeur et par équipe de 3 ou 4 personnes ! \nLa journée se déroulera en deux temps\, tel que  : \nLe rallye des « pitchots » : \n– Ouvert à tous les jeunes de U10 à U14 qui ne grimpent pas en tête– Inscription de 9h à 9h30– Rallye de 9h30 à 12h30– Pot amical et proclamation des résultats à 13h \n  \nINSCRIPTION \n  \nLe rallye des  »cadors » \nOuvert à tous les grimpeurs à partir de U12 qui grimpent et assurent en têteInscriptions de 13h à 13h30Rallye de 13h30 à 18h30Pot amical et proclamation des résultats à 19h \n  \nINSCRIPTION \n  \n  \nDans le cadre de l’organisation de cette compétition\, le club est à la recherche de bénévoles pour aider au démontage du mur. Si vous avez un peu de temps pour nous aider\, vous pouvez vous inscrire sur la liste des bénévoles via ce lien : https://forms.gle/62kJdPEuLZiiQ5EfA‌ \nUn grand merci d’avance 🙂
URL:http://clubalpinhorizonvertical.fr/programme-des-evenements/rallye-interclub/
LOCATION:Stade Massot\, Place de la Libération\, Le Puy-en-Velay\, 43000\, France
CATEGORIES:Compétitions
ATTACH;FMTTYPE=image/jpeg:http://clubalpinhorizonvertical.fr/wp-content/uploads/2022/10/unnamed-rallye-copie-scaled.jpg
END:VEVENT
END:VCALENDAR