BEGIN:VCALENDAR
VERSION:2.0
PRODID:-//Club Alpin Horizon Vertical - ECPv5.4.0.2//NONSGML v1.0//EN
CALSCALE:GREGORIAN
METHOD:PUBLISH
X-WR-CALNAME:Club Alpin Horizon Vertical
X-ORIGINAL-URL:http://clubalpinhorizonvertical.fr
X-WR-CALDESC:évènements pour Club Alpin Horizon Vertical
BEGIN:VTIMEZONE
TZID:Europe/Paris
BEGIN:DAYLIGHT
TZOFFSETFROM:+0100
TZOFFSETTO:+0200
TZNAME:CEST
DTSTART:20220327T010000
END:DAYLIGHT
BEGIN:STANDARD
TZOFFSETFROM:+0200
TZOFFSETTO:+0100
TZNAME:CET
DTSTART:20221030T010000
END:STANDARD
END:VTIMEZONE
BEGIN:VEVENT
DTSTART;TZID=Europe/Paris:20221203T080000
DTEND;TZID=Europe/Paris:20221204T170000
DTSTAMP:20260426T023507
CREATED:20221011T122941Z
LAST-MODIFIED:20221012T110223Z
UID:4641-1670054400-1670173200@clubalpinhorizonvertical.fr
SUMMARY:Rando sur le GR 65 Monistrol-d'Allier
DESCRIPTION:Rando sur le weekend. \nDépart le samedi 3 décembre du Puy. Soirée et nuitée à Monostrol d’Allier\, chez Cyprien\, membre du groupe des randonneurs. \nRetour au Puy dimanche 4 décembre. \nContact\, infos et inscription : Bruno et Jeanne (06 68 28 25 47 ou jeannehpo@gmail.com) \n  \n 
URL:http://clubalpinhorizonvertical.fr/programme-des-evenements/rando-sur-le-gr-65-monistrol-dallier/
LOCATION:Monistrol d’Allier\, Rue du pain de sucre\, Monistrol d'allier\, 43580\, France
CATEGORIES:Sorties
ATTACH;FMTTYPE=image/jpeg:http://clubalpinhorizonvertical.fr/wp-content/uploads/2022/10/GR65.jpg
END:VEVENT
END:VCALENDAR