BEGIN:VCALENDAR
VERSION:2.0
PRODID:-//Club Alpin Horizon Vertical - ECPv5.4.0.2//NONSGML v1.0//EN
CALSCALE:GREGORIAN
METHOD:PUBLISH
X-WR-CALNAME:Club Alpin Horizon Vertical
X-ORIGINAL-URL:http://clubalpinhorizonvertical.fr
X-WR-CALDESC:évènements pour Club Alpin Horizon Vertical
BEGIN:VTIMEZONE
TZID:Europe/Paris
BEGIN:DAYLIGHT
TZOFFSETFROM:+0100
TZOFFSETTO:+0200
TZNAME:CEST
DTSTART:20230326T010000
END:DAYLIGHT
BEGIN:STANDARD
TZOFFSETFROM:+0200
TZOFFSETTO:+0100
TZNAME:CET
DTSTART:20231029T010000
END:STANDARD
END:VTIMEZONE
BEGIN:VEVENT
DTSTART;TZID=Europe/Paris:20230319T100000
DTEND;TZID=Europe/Paris:20230319T170000
DTSTAMP:20260423T011001
CREATED:20230112T121758Z
LAST-MODIFIED:20230112T121758Z
UID:4994-1679220000-1679245200@clubalpinhorizonvertical.fr
SUMMARY:RANDONNE PEDESTRE AU VERNET
DESCRIPTION:RDV … 10h au Vernet pour une rando au sommet de la Durande avec de beaux panoramas sur le DevŠs. Environ 15 km\, pr‚voir le pique-nique. \nInfos et inscription : Bruno et Jeanne : 06 68 28 25 47 ou rando@clubalpinhorizonvertical.fr
URL:http://clubalpinhorizonvertical.fr/programme-des-evenements/randonne-pedestre-au-vernet/
LOCATION:le vernet\, Le vernet\, 43320\, France
CATEGORIES:Sortie
ATTACH;FMTTYPE=image/jpeg:http://clubalpinhorizonvertical.fr/wp-content/uploads/2022/10/Capturerando.jpg
END:VEVENT
END:VCALENDAR