BEGIN:VCALENDAR
VERSION:2.0
PRODID:-//Club Alpin Horizon Vertical - ECPv5.4.0.2//NONSGML v1.0//EN
CALSCALE:GREGORIAN
METHOD:PUBLISH
X-WR-CALNAME:Club Alpin Horizon Vertical
X-ORIGINAL-URL:http://clubalpinhorizonvertical.fr
X-WR-CALDESC:évènements pour Club Alpin Horizon Vertical
BEGIN:VTIMEZONE
TZID:Europe/Paris
BEGIN:DAYLIGHT
TZOFFSETFROM:+0100
TZOFFSETTO:+0200
TZNAME:CEST
DTSTART:20230326T010000
END:DAYLIGHT
BEGIN:STANDARD
TZOFFSETFROM:+0200
TZOFFSETTO:+0100
TZNAME:CET
DTSTART:20231029T010000
END:STANDARD
END:VTIMEZONE
BEGIN:VEVENT
DTSTART;VALUE=DATE:20230212
DTEND;VALUE=DATE:20230213
DTSTAMP:20260423T080026
CREATED:20230105T121014Z
LAST-MODIFIED:20230105T121126Z
UID:4921-1676160000-1676246399@clubalpinhorizonvertical.fr
SUMMARY:RANDONNE PÉDESTRE DANS LES GORGES DE L'ARZON
DESCRIPTION:Trois mois après le lancement du groupe\, six randonnées à la journée et un week-end dans le Vercors plus tard\,  les marcheurs aguerris du CAF se sont réunis à nouveau le 14 décembre pour planifier les sorties de 2023.\nVoici la prochaine sortie (possibilité de report ou de modification du parcours selon la météo\, info la veille via le groupe Whatsapp) : \n\nDimanche 12 février\, RDV 10h à XXX pour une rando dans les gorges de l’Arzon. 20 km prévus. Apporter le pique-nique.\n\nInfos et inscription : Bruno et Jeanne : 06 68 28 25 47 ou rando@clubalpinhorizonvertical.fr
URL:http://clubalpinhorizonvertical.fr/programme-des-evenements/randonne-pedestre-dans-les-gorges-de-larzon/
CATEGORIES:Sorties
ATTACH;FMTTYPE=image/jpeg:http://clubalpinhorizonvertical.fr/wp-content/uploads/2022/10/Capturerando.jpg
END:VEVENT
END:VCALENDAR