BEGIN:VCALENDAR
VERSION:2.0
PRODID:-//Club Alpin Horizon Vertical - ECPv5.4.0.2//NONSGML v1.0//EN
CALSCALE:GREGORIAN
METHOD:PUBLISH
X-WR-CALNAME:Club Alpin Horizon Vertical
X-ORIGINAL-URL:http://clubalpinhorizonvertical.fr
X-WR-CALDESC:évènements pour Club Alpin Horizon Vertical
BEGIN:VTIMEZONE
TZID:Europe/Paris
BEGIN:DAYLIGHT
TZOFFSETFROM:+0100
TZOFFSETTO:+0200
TZNAME:CEST
DTSTART:20230326T010000
END:DAYLIGHT
BEGIN:STANDARD
TZOFFSETFROM:+0200
TZOFFSETTO:+0100
TZNAME:CET
DTSTART:20231029T010000
END:STANDARD
END:VTIMEZONE
BEGIN:VEVENT
DTSTART;TZID=Europe/Paris:20230429T080000
DTEND;TZID=Europe/Paris:20230430T190000
DTSTAMP:20260423T061914
CREATED:20230125T083110Z
LAST-MODIFIED:20230125T083110Z
UID:5112-1682755200-1682881200@clubalpinhorizonvertical.fr
SUMMARY:RANDONNÉE PÉDESTRE DANS LE MASSIF DU SANCY
DESCRIPTION:Trois mois après le lancement du groupe\, six randonnées à la journée et un week-end dans le Vercors plus tard\,  les marcheurs aguerris du CAF se sont réunis à nouveau le 14 décembre pour planifier les sorties de 2023.\nVoici la prochaine sortie (possibilité de report ou de modification du parcours selon la météo\, info la veille via le groupe Whatsapp) : \n\nWeek-end du 29-30 avril\, départ à 8h au Puy avec la vallée de Chaudefour au programme. Hébergement à réserver pour le groupe.\n\nInfos et inscription : Bruno et Jeanne : 06 68 28 25 47 ou rando@clubalpinhorizonvertical.fr
URL:http://clubalpinhorizonvertical.fr/programme-des-evenements/randonnee-pedestre-dans-le-massif-du-sancy/
LOCATION:Sancy\, Mont-Dore\, Puy-de-Dôme\, 63240\, France
CATEGORIES:Sorties
ATTACH;FMTTYPE=image/jpeg:http://clubalpinhorizonvertical.fr/wp-content/uploads/2022/11/2IMG-20221009-WA0014.jpg
END:VEVENT
END:VCALENDAR