BEGIN:VCALENDAR
VERSION:2.0
PRODID:-//Club Alpin Horizon Vertical - ECPv5.4.0.2//NONSGML v1.0//EN
CALSCALE:GREGORIAN
METHOD:PUBLISH
X-WR-CALNAME:Club Alpin Horizon Vertical
X-ORIGINAL-URL:http://clubalpinhorizonvertical.fr
X-WR-CALDESC:évènements pour Club Alpin Horizon Vertical
BEGIN:VTIMEZONE
TZID:Europe/Paris
BEGIN:DAYLIGHT
TZOFFSETFROM:+0100
TZOFFSETTO:+0200
TZNAME:CEST
DTSTART:20220327T010000
END:DAYLIGHT
BEGIN:STANDARD
TZOFFSETFROM:+0200
TZOFFSETTO:+0100
TZNAME:CET
DTSTART:20221030T010000
END:STANDARD
END:VTIMEZONE
BEGIN:VEVENT
DTSTART;TZID=Europe/Paris:20221009T080000
DTEND;TZID=Europe/Paris:20221009T170000
DTSTAMP:20260426T054927
CREATED:20221005T112416Z
LAST-MODIFIED:20221005T112622Z
UID:4586-1665302400-1665334800@clubalpinhorizonvertical.fr
SUMMARY:Randonnée pédestre dans le Meygal
DESCRIPTION:Pour faire suite à notre réunion du mercredi 14 septembre\, le groupe de randonnées est officiellement réactivé pour cette rentrée 2022\, grâce à une vingtaine d’adhérents au CAF motivés pour marcher ensemble !Au programme : des dates de rando planifiées jusqu’au mois de décembre et un groupe Whatsapp pour prévoir des randos au pied levé et s’organiser pour le covoiturage\, pour l’hébergement le cas échéant. \nCe dimanche 9 octobre\, nous vous proposons : \nRDV 9h30 à Queyrières pour une rando de 20 km avec montée au mont Chanis et au Testavoyre avec pique nique (excursion initiale dans les gorges de l’Arzon reportée). \nContact\, infos et inscription : Bruno et Jeanne (06 68 28 25 47 ou jeannehpo@gmail.com)
URL:http://clubalpinhorizonvertical.fr/programme-des-evenements/randonnee-pedestre-dans-le-meygal/
LOCATION:queyrières\, Queyrières\, 43158\, France
CATEGORIES:Sorties
ATTACH;FMTTYPE=image/jpeg:http://clubalpinhorizonvertical.fr/wp-content/uploads/2021/02/20210209_121635-scaled.jpg
END:VEVENT
END:VCALENDAR