BEGIN:VCALENDAR
VERSION:2.0
PRODID:-//Club Alpin Horizon Vertical - ECPv5.4.0.2//NONSGML v1.0//EN
CALSCALE:GREGORIAN
METHOD:PUBLISH
X-WR-CALNAME:Club Alpin Horizon Vertical
X-ORIGINAL-URL:http://clubalpinhorizonvertical.fr
X-WR-CALDESC:évènements pour Club Alpin Horizon Vertical
BEGIN:VTIMEZONE
TZID:Europe/Paris
BEGIN:DAYLIGHT
TZOFFSETFROM:+0100
TZOFFSETTO:+0200
TZNAME:CEST
DTSTART:20220327T010000
END:DAYLIGHT
BEGIN:STANDARD
TZOFFSETFROM:+0200
TZOFFSETTO:+0100
TZNAME:CET
DTSTART:20221030T010000
END:STANDARD
END:VTIMEZONE
BEGIN:VEVENT
DTSTART;TZID=Europe/Paris:20221217T080000
DTEND;TZID=Europe/Paris:20221217T170000
DTSTAMP:20260426T041904
CREATED:20221012T111129Z
LAST-MODIFIED:20221012T111129Z
UID:4663-1671264000-1671296400@clubalpinhorizonvertical.fr
SUMMARY:SORTIE FALAISE ENCADRÉE - NOUVEAUTÉ
DESCRIPTION:Une autre nouveauté de la saison 2022 / 2023 : les sorties falaises encadrées ! \nConcrètement\, il s’agit de sorties encadrées par un moniteur Diplômé d’Etat avec lequel vous pourrez revoir toutes les manipulations pour grimper en toute sécurité\, avoir des conseils pour mieux appréhender la falaise\, poser les questions que vous vous posez parfois lors de vos sorties … \nIl ne s’agit pas d’un cursus d’apprentissage\, mais de journée « coachée » permettant d’aborder les points que vous souhaiteriez éclaircir ou améliorer sur votre pratique de l’escalade. \nProchaines dates : \n29 octobre\, à la journée lieu en fonction météo.\n17 décembre\, à la journée lieu en fonction météo. \nPrix : 25€ la séance\nNombre de places : 8 \nContact et inscription : Florent Volle : 06 84 97 72 51 ou Florent.volle@live.fr
URL:http://clubalpinhorizonvertical.fr/programme-des-evenements/sortie-falaise-encadree-nouveaute/
CATEGORIES:Formations
END:VEVENT
END:VCALENDAR