BEGIN:VCALENDAR
VERSION:2.0
PRODID:-//Club Alpin Horizon Vertical - ECPv5.4.0.2//NONSGML v1.0//EN
CALSCALE:GREGORIAN
METHOD:PUBLISH
X-WR-CALNAME:Club Alpin Horizon Vertical
X-ORIGINAL-URL:http://clubalpinhorizonvertical.fr
X-WR-CALDESC:évènements pour Club Alpin Horizon Vertical
BEGIN:VTIMEZONE
TZID:Europe/Paris
BEGIN:DAYLIGHT
TZOFFSETFROM:+0100
TZOFFSETTO:+0200
TZNAME:CEST
DTSTART:20230326T010000
END:DAYLIGHT
BEGIN:STANDARD
TZOFFSETFROM:+0200
TZOFFSETTO:+0100
TZNAME:CET
DTSTART:20231029T010000
END:STANDARD
END:VTIMEZONE
BEGIN:VEVENT
DTSTART;TZID=Europe/Paris:20230206T100000
DTEND;TZID=Europe/Paris:20230206T160000
DTSTAMP:20260423T113003
CREATED:20230125T092040Z
LAST-MODIFIED:20230125T092040Z
UID:5124-1675677600-1675699200@clubalpinhorizonvertical.fr
SUMMARY:STAGE DÉCOUVERTE (NON ADHÉRENT AU CLUB)
DESCRIPTION:Le lundi 6 février\, le club propose des séances découverte d’une heure organisés par tranche d’âge (enfants et adultes). L’idée est de découvrir le matériel et d’essayer la pratique de l’escalade. \nLes créneaux seront organisés par tranche d’âge :\n–  4 à 5 ans de 10h à 11h\n–  6 à 9 ans de 11h à 12h\n– 10 à 12 ans de 13h à 14h\n– 13 à 16 ans de 14h à 15h\n– 16 ans à adulte de 15h à 16h \nLe planning est susceptible d’être modifié suivant la composition des inscriptions. Nous vous tiendrons informés. \nConditions :\n– Prix : 10 euros par personne (assurance\, encadrement et prêt de matériel compris)\n– Pour les 4 à 5 ans groupe de 8 jeunes maximum.\n– Pour les 6 ans à adultes\, groupe de 10 personnes maximum.
URL:http://clubalpinhorizonvertical.fr/programme-des-evenements/stage-decouverte-non-adherent-au-club/
CATEGORIES:Initiation
ATTACH;FMTTYPE=image/jpeg:http://clubalpinhorizonvertical.fr/wp-content/uploads/2022/11/DSC02429-Copie.jpg
END:VEVENT
END:VCALENDAR