BEGIN:VCALENDAR
VERSION:2.0
PRODID:-//Club Alpin Horizon Vertical - ECPv5.4.0.2//NONSGML v1.0//EN
CALSCALE:GREGORIAN
METHOD:PUBLISH
X-WR-CALNAME:Club Alpin Horizon Vertical
X-ORIGINAL-URL:http://clubalpinhorizonvertical.fr
X-WR-CALDESC:évènements pour Club Alpin Horizon Vertical
BEGIN:VTIMEZONE
TZID:Europe/Paris
BEGIN:DAYLIGHT
TZOFFSETFROM:+0100
TZOFFSETTO:+0200
TZNAME:CEST
DTSTART:20230326T010000
END:DAYLIGHT
BEGIN:STANDARD
TZOFFSETFROM:+0200
TZOFFSETTO:+0100
TZNAME:CET
DTSTART:20231029T010000
END:STANDARD
END:VTIMEZONE
BEGIN:VEVENT
DTSTART;TZID=Europe/Paris:20230418T080000
DTEND;TZID=Europe/Paris:20230421T170000
DTSTAMP:20260423T043257
CREATED:20230316T083506Z
LAST-MODIFIED:20230316T083506Z
UID:5365-1681804800-1682096400@clubalpinhorizonvertical.fr
SUMMARY:Stage d'escalade vacances d'Avril
DESCRIPTION:Cette année\, le CAF Horizon Vertical propose d’emmener les jeunes\, à Buis les Baronnies dans la Drôme\, haut lieu de pratique de votre activité préférée! \n4 jours d’escalade en falaise au programme pour profiter pleinement du site! \nDates : Du 18 au 21 avril \nHébergement/transport : en minibus/en camping (chalets toilés) à la Fontaine d’Annibal \nEncadrement : les deux moniteurs DE + bénévoles de l’association \nNombre de places : 24 jeunes\, âgés au minimum de 10 ans\, ou grimpant au moins deux fois par semaine dans le cadre de l’école d’escalade. \nPrix du stage : 150 euros par personne. Réglement par chèque de préférence à l’ordre du CAF Horizon Vertical. \nDes infos complémentaires vous seront transmises lorsque les inscriptions seront terminées. \nInscription via le lien ci-dessous pour vous inscrire en 3 clics ! \nClôture des inscriptions le vendredi 24 mars. \nhttps://forms.gle/Y67kcyTabnroQGPf9 \nà copier dans la barre d’adresse si le lien ne fonctionne pas
URL:http://clubalpinhorizonvertical.fr/programme-des-evenements/stage-descalade-vacances-davril/
LOCATION:Buis les Baronnies\, France
END:VEVENT
END:VCALENDAR