BEGIN:VCALENDAR
VERSION:2.0
PRODID:-//Club Alpin Horizon Vertical - ECPv5.4.0.2//NONSGML v1.0//EN
CALSCALE:GREGORIAN
METHOD:PUBLISH
X-WR-CALNAME:Club Alpin Horizon Vertical
X-ORIGINAL-URL:http://clubalpinhorizonvertical.fr
X-WR-CALDESC:évènements pour Club Alpin Horizon Vertical
BEGIN:VTIMEZONE
TZID:Europe/Paris
BEGIN:DAYLIGHT
TZOFFSETFROM:+0100
TZOFFSETTO:+0200
TZNAME:CEST
DTSTART:20220327T010000
END:DAYLIGHT
BEGIN:STANDARD
TZOFFSETFROM:+0200
TZOFFSETTO:+0100
TZNAME:CET
DTSTART:20221030T010000
END:STANDARD
END:VTIMEZONE
BEGIN:VEVENT
DTSTART;TZID=Europe/Paris:20221209T183000
DTEND;TZID=Europe/Paris:20221211T170000
DTSTAMP:20260426T041455
CREATED:20221205T115824Z
LAST-MODIFIED:20221205T122427Z
UID:4871-1670610600-1670778000@clubalpinhorizonvertical.fr
SUMMARY:UNE MONTAGNE EN PARTAGE
DESCRIPTION:Programme complet dans l’image ci dessous
URL:http://clubalpinhorizonvertical.fr/programme-des-evenements/une-montagne-en-partage/
LOCATION:Le mont dore\, Le mont Dore\, France
CATEGORIES:Animations
ATTACH;FMTTYPE=image/jpeg:http://clubalpinhorizonvertical.fr/wp-content/uploads/2022/12/Flyer4Pages-ProgrammeBD_Page_1.jpg
END:VEVENT
END:VCALENDAR