BEGIN:VCALENDAR
VERSION:2.0
PRODID:-//Club Alpin Horizon Vertical - ECPv5.4.0.2//NONSGML v1.0//EN
CALSCALE:GREGORIAN
METHOD:PUBLISH
X-WR-CALNAME:Club Alpin Horizon Vertical
X-ORIGINAL-URL:https://clubalpinhorizonvertical.fr
X-WR-CALDESC:évènements pour Club Alpin Horizon Vertical
BEGIN:VTIMEZONE
TZID:Europe/Paris
BEGIN:DAYLIGHT
TZOFFSETFROM:+0100
TZOFFSETTO:+0200
TZNAME:CEST
DTSTART:20260329T010000
END:DAYLIGHT
BEGIN:STANDARD
TZOFFSETFROM:+0200
TZOFFSETTO:+0100
TZNAME:CET
DTSTART:20261025T010000
END:STANDARD
END:VTIMEZONE
BEGIN:VEVENT
DTSTART;VALUE=DATE:20260406
DTEND;VALUE=DATE:20260410
DTSTAMP:20260419T140816
CREATED:20260224T132726Z
LAST-MODIFIED:20260224T132726Z
UID:7805-1775433600-1775779199@clubalpinhorizonvertical.fr
SUMMARY:Stage Escalade Perfectionnement enfant/ado Orpierre
DESCRIPTION:L’école d’escalade Enfant du CAF Horizon Vertical propose un stage de perfectionnement en falaise de 4 jours et 3 nuits sur le site d’Orpierre dans les Hautes-Alpes pendant les vacances de Pâques.\nTransport en minibus et hébergement au camping Les Princes d’Orange à Orpierre (tentes meublées). \nPrérequis : être autonome en tête et avoir au moins 10 ans.
URL:https://clubalpinhorizonvertical.fr/programme-des-evenements/stage-escalade-perfectionnement-enfant-ado-orpierre/
LOCATION:Orpierre\, Hautes-Alpes\, France
END:VEVENT
END:VCALENDAR